BEGIN:VCALENDAR
VERSION:2.0
PRODID:-//Tukios.com/
BEGIN:VEVENT
UID:062754e7-be88-4aad-99a0-e6e437954286@www.mcneill-legacyfuneralhome.com
DTSTAMP:20260422T174848Z
DTSTART:20260425T150000Z
DTEND:20260425T160000Z
SUMMARY:Visitation
DESCRIPTION:
URL:https://www.mcneill-legacyfuneralhome.com/obituaries/wolfgang-fulterer
LOCATION:Tolarsville Baptist Church 5521 Tolarsville Rd  Saint Pauls NC 
	28384
GEO:34.7593497;-78.8728754
END:VEVENT
END:VCALENDAR