BEGIN:VCALENDAR
VERSION:2.0
PRODID:-//Tukios.com/
BEGIN:VEVENT
UID:c9e688d5-778a-4531-b10c-90270b765631@www.mcneill-legacyfuneralhome.com
DTSTAMP:20260424T083502Z
DTSTART:20260425T160000Z
DTEND:20260425T170000Z
SUMMARY:Memorial Service
DESCRIPTION:
URL:https://www.mcneill-legacyfuneralhome.com/obituaries/wolfgang-fulterer
LOCATION:Tolarsville Baptist Church 5521 Tolarsville Rd  Saint Pauls NC 
	28384
GEO:34.7593497;-78.8728754
END:VEVENT
END:VCALENDAR